BEGIN:VCALENDAR
VERSION:2.0
PRODID:-//wp-events-plugin.com//7.2.3.1//EN
BEGIN:VEVENT
UID:39@angelcitybigband.com
DTSTART:20240414T030000Z
DTEND:20240414T060000Z
DTSTAMP:20240204T224641Z
URL:https://angelcitybigband.com/events/dancing-and-dinner-at-the-legion-4
 /
SUMMARY:Dancing and Dinner at the Legion
DESCRIPTION:Join the Angel City Big Band for a fun-filled night with great 
 classic big band tunes from the 50's and beyond. Open Bar\, Dinner availab
 le\, Dance Floor with large circular tables that can be reserved ahead of 
 time.
CATEGORIES:American Legion,Performance
LOCATION:American Legion Hall\, 5320 Fallbrook Avenue\, Woodland Hills\, Ca
 lifornia\, 91364\, United States
GEO:34.166957;-118.623038
X-APPLE-STRUCTURED-LOCATION;VALUE=URI;X-ADDRESS=5320 Fallbrook Avenue\, Woo
 dland Hills\, California\, 91364\, United States;X-APPLE-RADIUS=100;X-TITL
 E=American Legion Hall:geo:34.166957,-118.623038
END:VEVENT
END:VCALENDAR